BEGIN:VCALENDAR
VERSION:2.0
PRODID:icalendar-ruby
CALSCALE:GREGORIAN
METHOD:PUBLISH
BEGIN:VEVENT
DTSTAMP:20260423T023504Z
UID:1-2402989@corpusunum.org
DTSTART:20260725T000000Z
DTEND:20260725T030000Z
CLASS:PUBLIC
CREATED:20260422T202943
DESCRIPTION:Porfavor traigan su biblia y cuadernos\n 
LAST-MODIFIED:20260422T202943
LOCATION:Iglesia Centro De Vida
SUMMARY:INTINO
URL;VALUE=URI:https://intino.org/events/intino/2026-07-24
ATTACH;FILENAME=118701558_106872304478652_7254995127060298219_n.jpg;FMTTYPE
 =image/jpeg:https://dq5pwpg1q8ru0.cloudfront.net/2020/10/09/11/56/08/ff355
 a04-d65f-4058-8b15-a00ff337d402/118701558_106872304478652_7254995127060298
 219_n.jpg
END:VEVENT
END:VCALENDAR
